BEGIN:VCALENDAR
PRODID:-//PUBBLE//agenda//NL
VERSION:2.0
METHOD:PUBLISH
BEGIN:VEVENT
DTSTART:20240706T083000Z
DTEND:20240706T133000Z
DTSTAMP:20260423T220753Z
UID:db6ab32d-1955-4cb9-ba44-35443d02535a
CREATED:20260423T220753Z
NAME:10e editie Oldtimerdag Ipse de Bruggen kobr.nl
X-WR-CALNAME:10e editie Oldtimerdag Ipse de Bruggen
X-ALT-DESC;FMTTYPE=text/html:<a href='/agenda/2024/7/6/10e-editie-oldtimerdag-ipse-de-bruggen-34412'>/agenda/2024/7/6/10e-editie-oldtimerdag-ipse-de-bruggen-34412</a> || <p>Zaterdag 6 juli vindt de 10e editie van de Oldtimerdag plaats bij Ipse de Bruggen Zwammerdam. Fanfare Wilhelmina uit Zwammerdam verzorgt samen met OBK uit Driebruggen een lunchconcert van een uur. Bij De Haven brengen ze om 12.30 uur lichte muziek ten gehore. Toegang is gratis. </p>
DESCRIPTION:<a href='/agenda/2024/7/6/10e-editie-oldtimerdag-ipse-de-bruggen-34412'>/agenda/2024/7/6/10e-editie-oldtimerdag-ipse-de-bruggen-34412</a> || <p>Zaterdag 6 juli vindt de 10e editie van de Oldtimerdag plaats bij Ipse de Bruggen Zwammerdam. Fanfare Wilhelmina uit Zwammerdam verzorgt samen met OBK uit Driebruggen een lunchconcert van een uur. Bij De Haven brengen ze om 12.30 uur lichte muziek ten gehore. Toegang is gratis. </p>
LAST-MODIFIED:20260423T220753Z
LOCATION: Ipse de Bruggen | Spoorlaan 19 Zwammerdam
SEQUENCE:0
STATUS:CONFIRMED
SUMMARY:10e editie Oldtimerdag Ipse de Bruggen
TRANSP:OPAQUE
END:VEVENT
END:VCALENDAR
