BEGIN:VCALENDAR
PRODID:-//PUBBLE//agenda//NL
VERSION:2.0
METHOD:PUBLISH
BEGIN:VEVENT
DTSTART:20250816T080000Z
DTEND:20250816T140000Z
DTSTAMP:20260425T111840Z
UID:d7a11d80-5b43-49b8-89ef-57e53755901a
CREATED:20260425T111840Z
NAME:Kunst in de Dorpskerk van Zwammerdam kobr.nl
X-WR-CALNAME:Kunst in de Dorpskerk van Zwammerdam
X-ALT-DESC;FMTTYPE=text/html:<a href='/agenda/2025/8/16/kunst-in-de-dorpskerk-van-zwammerdam-36250'>/agenda/2025/8/16/kunst-in-de-dorpskerk-van-zwammerdam-36250</a> || <p>ZWAMMERDAM – In de Dorpskerk is op zaterdag een tentoonstelling van Diny van Aalsvoort en Koos van den Nieuwendijk te zien, onderdeel van de reeks Kunst in de Kerk. Van Aalsvoort werkt sociale situaties uit in kleurrijke mixed media, vaak geïnspireerd op krantenfoto’s en reisverhalen. Van den Nieuwendijk brengt Pop Art en Minimalisme samen in monumentale werken met heldere lijnen en grote vlakken. Bezoekers zijn welkom van 10.00 tot 16.00 uur. Toegang is gratis.</p>
DESCRIPTION:<a href='/agenda/2025/8/16/kunst-in-de-dorpskerk-van-zwammerdam-36250'>/agenda/2025/8/16/kunst-in-de-dorpskerk-van-zwammerdam-36250</a> || <p>ZWAMMERDAM – In de Dorpskerk is op zaterdag een tentoonstelling van Diny van Aalsvoort en Koos van den Nieuwendijk te zien, onderdeel van de reeks Kunst in de Kerk. Van Aalsvoort werkt sociale situaties uit in kleurrijke mixed media, vaak geïnspireerd op krantenfoto’s en reisverhalen. Van den Nieuwendijk brengt Pop Art en Minimalisme samen in monumentale werken met heldere lijnen en grote vlakken. Bezoekers zijn welkom van 10.00 tot 16.00 uur. Toegang is gratis.</p>
LAST-MODIFIED:20260425T111840Z
LOCATION: Dorpskerk | Kerkplein 5 Zwammerdam
SEQUENCE:0
STATUS:CONFIRMED
SUMMARY:Kunst in de Dorpskerk van Zwammerdam
TRANSP:OPAQUE
END:VEVENT
END:VCALENDAR
