BEGIN:VCALENDAR
PRODID:-//PUBBLE//agenda//NL
VERSION:2.0
METHOD:PUBLISH
BEGIN:VEVENT
DTSTART:20260110T080000Z
DTEND:20260110T100000Z
DTSTAMP:20260424T130855Z
UID:655b23d0-61d7-4794-a293-7d8797457397
CREATED:20260424T130855Z
NAME:Repaircafe Reeuwijk-Brug kobr.nl
X-WR-CALNAME:Repaircafe Reeuwijk-Brug
X-ALT-DESC;FMTTYPE=text/html:<a href='/agenda/2026/1/10/repaircafe-reeuwijk-brug-36822'>/agenda/2026/1/10/repaircafe-reeuwijk-brug-36822</a> || <p>In het Huis van Alles in Reeuwijk-Brug vindt iedere tweede en laatste zaterdag van de maand het Repaircafé plaats. Tussen 10.00 en 12.00 uur staan vrijwilligers klaar om samen met bezoekers kapotte spullen te repareren.&nbsp;</p><p>Het gaat onder meer om defect gereedschap, kleine huishoudelijke apparaten en lampen, met als doel deze een tweede leven te geven. Bezoekers worden uitgenodigd om samen met de vrijwilligers aan de reparatie te werken.&nbsp;</p><p>Informatie: iedere tweede en laatste zaterdag van de maand, van 10.00 tot 12.00 uur; Huis van Alles Reeuwijk-Brug, Van Staverenstraat 39, Reeuwijk-Brug.</p>
DESCRIPTION:<a href='/agenda/2026/1/10/repaircafe-reeuwijk-brug-36822'>/agenda/2026/1/10/repaircafe-reeuwijk-brug-36822</a> || <p>In het Huis van Alles in Reeuwijk-Brug vindt iedere tweede en laatste zaterdag van de maand het Repaircafé plaats. Tussen 10.00 en 12.00 uur staan vrijwilligers klaar om samen met bezoekers kapotte spullen te repareren.&nbsp;</p><p>Het gaat onder meer om defect gereedschap, kleine huishoudelijke apparaten en lampen, met als doel deze een tweede leven te geven. Bezoekers worden uitgenodigd om samen met de vrijwilligers aan de reparatie te werken.&nbsp;</p><p>Informatie: iedere tweede en laatste zaterdag van de maand, van 10.00 tot 12.00 uur; Huis van Alles Reeuwijk-Brug, Van Staverenstraat 39, Reeuwijk-Brug.</p>
LAST-MODIFIED:20260424T130855Z
LOCATION: Huis van Alles Reeuwijk-Brug | Van Staverenstraat 39 Reeuwijk-Brug
SEQUENCE:0
STATUS:CONFIRMED
SUMMARY:Repaircafe Reeuwijk-Brug
TRANSP:OPAQUE
END:VEVENT
END:VCALENDAR
