BEGIN:VCALENDAR
PRODID:-//PUBBLE//agenda//NL
VERSION:2.0
METHOD:PUBLISH
BEGIN:VEVENT
DTSTART:20260302T173000Z
DTEND:20261221T183000Z
DTSTAMP:20260419T232356Z
UID:f0996a06-430b-463a-b2d8-2228c1cf8f19
CREATED:20260419T232356Z
NAME:Loopmaatje Waarder kobr.nl
X-WR-CALNAME:Loopmaatje Waarder
X-ALT-DESC;FMTTYPE=text/html:<a href='/agenda/2026/3/2/loopmaatje-waarder-37000'>/agenda/2026/3/2/loopmaatje-waarder-37000</a> || <p>Samen lopen is leuker dan alleen.
Vanaf 2 maart starten we samen met SenW Loopmaatje Waarder: samen een frisse wandeling maken, even het hoofd leeg en tijd voor een goed gesprek. Geschikt voor iedereen, en extra fijn voor werkenden die na een drukke dag willen ontspannen.
Er zijn routes van 1 km en 3 km. Loop je mee?</p>
DESCRIPTION:<a href='/agenda/2026/3/2/loopmaatje-waarder-37000'>/agenda/2026/3/2/loopmaatje-waarder-37000</a> || <p>Samen lopen is leuker dan alleen.
Vanaf 2 maart starten we samen met SenW Loopmaatje Waarder: samen een frisse wandeling maken, even het hoofd leeg en tijd voor een goed gesprek. Geschikt voor iedereen, en extra fijn voor werkenden die na een drukke dag willen ontspannen.
Er zijn routes van 1 km en 3 km. Loop je mee?</p>
LAST-MODIFIED:20260419T232356Z
LOCATION: Huis van Alles Waarder | Meester Pieter van Vollenhovenstraat 16 Waarder
SEQUENCE:0
STATUS:CONFIRMED
SUMMARY:Loopmaatje Waarder
TRANSP:OPAQUE
END:VEVENT
END:VCALENDAR
