BEGIN:VCALENDAR
PRODID:-//PUBBLE//agenda//NL
VERSION:2.0
METHOD:PUBLISH
BEGIN:VEVENT
DTSTART:20260425T080000Z
DTEND:20260425T100000Z
DTSTAMP:20260424T091055Z
UID:b2cc86ba-2e8c-4ab1-b11e-65333d6da1ff
CREATED:20260424T091055Z
NAME:Repaircafe Reeuwijkbrug kobr.nl
X-WR-CALNAME:Repaircafe Reeuwijkbrug
X-ALT-DESC;FMTTYPE=text/html:<a href='/agenda/2026/4/25/repaircafe-reeuwijkbrug-37409'>/agenda/2026/4/25/repaircafe-reeuwijkbrug-37409</a> || <p>In het Huis van Alles aan de van Staverenstraat 39 vind het Repaircafé plaats. &nbsp;Tussen 10.00 en 12.00 staan vrijwilligers klaar om samen met u kapotte spullen te repareren. Zo krijgt defect gereedschap, een koffiezetapparaat of lamp misschien weer een tweede leven. </p>
DESCRIPTION:<a href='/agenda/2026/4/25/repaircafe-reeuwijkbrug-37409'>/agenda/2026/4/25/repaircafe-reeuwijkbrug-37409</a> || <p>In het Huis van Alles aan de van Staverenstraat 39 vind het Repaircafé plaats. &nbsp;Tussen 10.00 en 12.00 staan vrijwilligers klaar om samen met u kapotte spullen te repareren. Zo krijgt defect gereedschap, een koffiezetapparaat of lamp misschien weer een tweede leven. </p>
LAST-MODIFIED:20260424T091055Z
LOCATION: Huis van Alles Reeuwijk-Brug | Van Staverenstraat 39 Reeuwijk-Brug
SEQUENCE:0
STATUS:CONFIRMED
SUMMARY:Repaircafe Reeuwijkbrug
TRANSP:OPAQUE
END:VEVENT
END:VCALENDAR
